BEGIN:VCALENDAR
VERSION:2.0
PRODID:-//Ward 03 Chicago - ECPv6.15.20//NONSGML v1.0//EN
CALSCALE:GREGORIAN
METHOD:PUBLISH
X-WR-CALNAME:Ward 03 Chicago
X-ORIGINAL-URL:https://ward03chicago.com
X-WR-CALDESC:Events for Ward 03 Chicago
REFRESH-INTERVAL;VALUE=DURATION:PT1H
X-Robots-Tag:noindex
X-PUBLISHED-TTL:PT1H
BEGIN:VTIMEZONE
TZID:UTC
BEGIN:STANDARD
TZOFFSETFROM:+0000
TZOFFSETTO:+0000
TZNAME:UTC
DTSTART:20230101T000000
END:STANDARD
END:VTIMEZONE
BEGIN:VTIMEZONE
TZID:America/Chicago
BEGIN:DAYLIGHT
TZOFFSETFROM:-0600
TZOFFSETTO:-0500
TZNAME:CDT
DTSTART:20230312T080000
END:DAYLIGHT
BEGIN:STANDARD
TZOFFSETFROM:-0500
TZOFFSETTO:-0600
TZNAME:CST
DTSTART:20231105T070000
END:STANDARD
BEGIN:DAYLIGHT
TZOFFSETFROM:-0600
TZOFFSETTO:-0500
TZNAME:CDT
DTSTART:20240310T080000
END:DAYLIGHT
BEGIN:STANDARD
TZOFFSETFROM:-0500
TZOFFSETTO:-0600
TZNAME:CST
DTSTART:20241103T070000
END:STANDARD
BEGIN:DAYLIGHT
TZOFFSETFROM:-0600
TZOFFSETTO:-0500
TZNAME:CDT
DTSTART:20250309T080000
END:DAYLIGHT
BEGIN:STANDARD
TZOFFSETFROM:-0500
TZOFFSETTO:-0600
TZNAME:CST
DTSTART:20251102T070000
END:STANDARD
END:VTIMEZONE
BEGIN:VEVENT
DTSTART;TZID=UTC:20250507T110000
DTEND;TZID=UTC:20250507T150000
DTSTAMP:20260423T092942
CREATED:20250407T183628Z
LAST-MODIFIED:20250407T183719Z
UID:893-1746615600-1746630000@ward03chicago.com
SUMMARY:Spring Shred-a-Thon
DESCRIPTION:Free professional document shredding services provided by Midway Moving and Storage will be at Alderman Dowell’s Public Service Office to assist residents with destroying and safely disposing of your old bills\, medical records\, bank statements\, and other potentially compromising paper documents. \nPlease remember to remove all metal paper and binder clips\, as well as any other non-paper material to ensure your documents are destroyed safely and effectively. Questions? Call 773-373-9273
URL:https://ward03chicago.com/event/spring-shred-a-thon/
LOCATION:3rd Ward Public Service Office\, 5046 S. State St.\, Chicago\, IL\, 60609\, United States
ATTACH;FMTTYPE=image/png:https://ward03chicago.com/wp-content/uploads/2025/04/Shred-a-Thon-2025-Spring-Ward-Office.png
ORGANIZER;CN="Office of Alderman Pat Dowell":MAILTO:Ward03@cityofchicago.org
END:VEVENT
BEGIN:VEVENT
DTSTART;TZID=UTC:20250507T100000
DTEND;TZID=UTC:20250507T150000
DTSTAMP:20260423T092942
CREATED:20250218T192503Z
LAST-MODIFIED:20250218T192503Z
UID:824-1746612000-1746630000@ward03chicago.com
SUMMARY:3rd Ward Resource Fair
DESCRIPTION:
URL:https://ward03chicago.com/event/3rd-ward-resource-fair-2/
LOCATION:3rd Ward Public Service Office\, 5046 S. State St.\, Chicago\, IL\, 60609\, United States
ATTACH;FMTTYPE=image/png:https://ward03chicago.com/wp-content/uploads/2025/02/3rd-Ward-Resource-Fair-2025-012225.png
ORGANIZER;CN="Office of Alderman Pat Dowell":MAILTO:Ward03@cityofchicago.org
END:VEVENT
BEGIN:VEVENT
DTSTART;TZID=UTC:20250430T100000
DTEND;TZID=UTC:20250430T120000
DTSTAMP:20260423T092942
CREATED:20250418T181359Z
LAST-MODIFIED:20250418T181359Z
UID:909-1746007200-1746014400@ward03chicago.com
SUMMARY:Working with the Cook County Land Bank
DESCRIPTION:Looking for your next project? Join us at our Working with the Land Bank Seminar to learn more about how to acquire vacant and abandoned properties from the Cook County Land Bank Authority.
URL:https://ward03chicago.com/event/working-with-the-cook-county-land-bank/
LOCATION:Discover Shine Bright Communit Center\, 8650 S. Cottage Grove Ave.\, Chicago\, IL\, 60619\, United States
ATTACH;FMTTYPE=image/jpeg:https://ward03chicago.com/wp-content/uploads/2025/04/WWLB-April-Flyer_V3-page-001.jpg
ORGANIZER;CN="Cook County Land Bank Authority":MAILTO:Info@CookCountyLandBank.org
END:VEVENT
BEGIN:VEVENT
DTSTART;TZID=UTC:20250422T190000
DTEND;TZID=UTC:20250422T203000
DTSTAMP:20260423T092942
CREATED:20250418T173059Z
LAST-MODIFIED:20250418T173059Z
UID:901-1745348400-1745353800@ward03chicago.com
SUMMARY:Near South Aldermanic Forum
DESCRIPTION:One Community Near South is hosting an Aldermanic Forum with 3rd Ward Alderman Pat Dowell\, 4th Ward Alderman Lamont Robinson\, 34th Ward Alderman Bill Conway\, and 11th Ward Alderman Nicole Lee. Learn about how Aldermen work across ward lines to cohesively represent near south residents. Hear about the latest on summer events impacting the community.
URL:https://ward03chicago.com/event/near-south-aldermanic-forum/
LOCATION:Grace’s Place\, 637 S. Dearborn\, Chicago\, IL\, 60605\, United States
ATTACH;FMTTYPE=image/jpeg:https://ward03chicago.com/wp-content/uploads/2025/04/April-22-flyer-FINAL-2025-03-24-21_07_33-page-001.jpg
END:VEVENT
BEGIN:VEVENT
DTSTART;TZID=UTC:20250402T180000
DTEND;TZID=UTC:20250402T200000
DTSTAMP:20260423T092942
CREATED:20250326T153100Z
LAST-MODIFIED:20250326T153100Z
UID:861-1743616800-1743624000@ward03chicago.com
SUMMARY:NASCAR Community Engagement Meeting
DESCRIPTION:NASCAR will be hosting a community engagement meeting to share information about the upcoming Chicago Street Race Weekend. Representatives from NASCAR\, the City of Chicago\, the Chicago Park District\, and other will be present and respond to questions from the community. If you have additional questions\, please email info@nascarchicago.com.
URL:https://ward03chicago.com/event/nascar-community-engagement-meeting/
LOCATION:IL
ATTACH;FMTTYPE=image/jpeg:https://ward03chicago.com/wp-content/uploads/2025/03/2025-NASCAR-Chicago-Community-Mtg.jpg
ORGANIZER;CN="NASCAR Chicago":MAILTO:info@nascarchicago.com
END:VEVENT
BEGIN:VEVENT
DTSTART;TZID=UTC:20250329T120000
DTEND;TZID=UTC:20250329T160000
DTSTAMP:20260423T092942
CREATED:20250326T154817Z
LAST-MODIFIED:20250326T154817Z
UID:873-1743249600-1743264000@ward03chicago.com
SUMMARY:Teen Opportunity Bash
DESCRIPTION:You are invited to the 2025 MyChiMyFuture Teen Opportunity Bash! This is a free event. Register now!
URL:https://ward03chicago.com/event/teen-opportunity-bash/
LOCATION:Navy Pier\, 600 E. Grand\, Chicago\, IL\, 60611\, United States
ATTACH;FMTTYPE=image/png:https://ward03chicago.com/wp-content/uploads/2025/03/2025-MCMF-Teen-Bash-Social-Media-Post.png
END:VEVENT
BEGIN:VEVENT
DTSTART;TZID=UTC:20250319T180000
DTEND;TZID=UTC:20250319T200000
DTSTAMP:20260423T092942
CREATED:20250304T170844Z
LAST-MODIFIED:20250304T170922Z
UID:838-1742407200-1742414400@ward03chicago.com
SUMMARY:3rd Ward March Town Hall Meeting
DESCRIPTION:Alderman Dowell will be hosting her next in-person Town Hall meeting on Wednesday\, March 19th from 6:00 pm to 8:00 pm at the FAME Center (1319 S. State St.). Come and learn more about what is happening in our community! Be on the lookout for additional information from Alderman Dowell’s office on this meeting in the coming days…
URL:https://ward03chicago.com/event/3rd-ward-march-town-hall-meeting/
LOCATION:FAME Center\, 1319 S. State St.\, Chicago\, IL\, 60605\, United States
ORGANIZER;CN="Office of Alderman Pat Dowell":MAILTO:Ward03@cityofchicago.org
END:VEVENT
BEGIN:VEVENT
DTSTART;TZID=UTC:20250221T100000
DTEND;TZID=UTC:20250221T140000
DTSTAMP:20260423T092942
CREATED:20250218T192900Z
LAST-MODIFIED:20250218T192900Z
UID:827-1740132000-1740146400@ward03chicago.com
SUMMARY:Chicago City Council Black Caucus Job Fair
DESCRIPTION:
URL:https://ward03chicago.com/event/chicago-city-council-black-caucus-job-fair/
LOCATION:Malcolm X College\, 1900 W Jackson Blvd.\, Chicago\, IL\, 60612\, United States
ATTACH;FMTTYPE=image/jpeg:https://ward03chicago.com/wp-content/uploads/2025/02/City-Council-Black-Caucus-Job-Fair-2025.jpg
ORGANIZER;CN="Chicago City Council Black Caucus":MAILTO:info@cabc.org
END:VEVENT
BEGIN:VEVENT
DTSTART;TZID=UTC:20250122T180000
DTEND;TZID=UTC:20250122T200000
DTSTAMP:20260423T092942
CREATED:20250115T211527Z
LAST-MODIFIED:20250115T215230Z
UID:804-1737568800-1737576000@ward03chicago.com
SUMMARY:3rd Ward Town Hall Meeting
DESCRIPTION:
URL:https://ward03chicago.com/event/3rd-ward-town-hall-meeting/
LOCATION:IL
ATTACH;FMTTYPE=image/png:https://ward03chicago.com/wp-content/uploads/2025/01/January-2024-Town-Hall-Meeting-010625.png
ORGANIZER;CN="Office of Alderman Pat Dowell":MAILTO:Ward03@cityofchicago.org
END:VEVENT
BEGIN:VEVENT
DTSTART;TZID=UTC:20250115T060000
DTEND;TZID=UTC:20250116T210000
DTSTAMP:20260423T092942
CREATED:20241201T160217Z
LAST-MODIFIED:20241218T160547Z
UID:770-1736920800-1737061200@ward03chicago.com
SUMMARY:ABC7 Blood Drive
DESCRIPTION:
URL:https://ward03chicago.com/event/abc7-blood-drive/
LOCATION:IL
ORGANIZER;CN="ABC7":MAILTO:abc7volunteer@redcross.org
END:VEVENT
BEGIN:VEVENT
DTSTART;TZID=UTC:20241225T120000
DTEND;TZID=UTC:20241225T150000
DTSTAMP:20260423T092942
CREATED:20241218T164337Z
LAST-MODIFIED:20241218T164353Z
UID:785-1735128000-1735138800@ward03chicago.com
SUMMARY:Mt. Pisgah Christmas Community Dinner
DESCRIPTION:
URL:https://ward03chicago.com/event/mt-pisgah-christmas-community-dinner/
LOCATION:Mt. Pisgah\, 4622 S. King Dr.\, Chicago\, IL\, 60653\, United States
END:VEVENT
BEGIN:VEVENT
DTSTART;VALUE=DATE:20241109
DTEND;VALUE=DATE:20241110
DTSTAMP:20260423T092942
CREATED:20241010T163119Z
LAST-MODIFIED:20241010T163119Z
UID:734-1731110400-1731196799@ward03chicago.com
SUMMARY:City Civics Day 2024
DESCRIPTION:
URL:https://ward03chicago.com/event/city-civics-day-2024/
LOCATION:Malcolm X College\, 1900 W Jackson Blvd.\, Chicago\, IL\, 60612\, United States
ATTACH;FMTTYPE=image/jpeg:https://ward03chicago.com/wp-content/uploads/2024/10/DPD_CityCivicsDay24_banner.jpg
END:VEVENT
BEGIN:VEVENT
DTSTART;TZID=UTC:20241028T100000
DTEND;TZID=UTC:20241028T140000
DTSTAMP:20260423T092942
CREATED:20241010T162941Z
LAST-MODIFIED:20241010T162941Z
UID:728-1730109600-1730124000@ward03chicago.com
SUMMARY:Mobile DMV from State Rep. Kim Du Buclet
DESCRIPTION:
URL:https://ward03chicago.com/event/mobile-dmv-from-state-rep-kim-du-buclet/
LOCATION:Dawson Tech\, 3901 S. State St.\, Chicago\, IL\, 60609\, United States
ATTACH;FMTTYPE=image/png:https://ward03chicago.com/wp-content/uploads/2024/10/Copy-of-MOBILE-DMV.png
ORGANIZER;CN="State Representative Kim DuBuclet":MAILTO:rep5information@gmail.com
END:VEVENT
BEGIN:VEVENT
DTSTART;TZID=UTC:20241019T100000
DTEND;TZID=UTC:20241019T130000
DTSTAMP:20260423T092942
CREATED:20241010T162648Z
LAST-MODIFIED:20241010T162648Z
UID:723-1729332000-1729342800@ward03chicago.com
SUMMARY:3rd\, 4th\, 5th\, and 20th Ward Housing Resource Fair
DESCRIPTION:
URL:https://ward03chicago.com/event/3rd-4th-5th-and-20th-ward-housing-resource-fair/
LOCATION:Charles A. Hayes Family Investment Center\, 4859 S. Wabash Ave.\, Chicago\, IL\, 60615\, United States
ATTACH;FMTTYPE=image/png:https://ward03chicago.com/wp-content/uploads/2024/10/Housing-Fair-2024-UPDATED-080624.png
ORGANIZER;CN="Office of Alderman Pat Dowell":MAILTO:Ward03@cityofchicago.org
END:VEVENT
BEGIN:VEVENT
DTSTART;TZID=UTC:20241013T070000
DTEND;TZID=UTC:20241013T160000
DTSTAMP:20260423T092942
CREATED:20241010T162238Z
LAST-MODIFIED:20241010T162238Z
UID:715-1728802800-1728835200@ward03chicago.com
SUMMARY:2024 Bank of America Chicago Marathon
DESCRIPTION: 
URL:https://ward03chicago.com/event/2024-bank-of-america-chicago-marathon/
LOCATION:IL
ATTACH;FMTTYPE=image/jpeg:https://ward03chicago.com/wp-content/uploads/2024/10/24-BACM-COURSE-MAP-page-001.jpg
ORGANIZER;CN="Bank of America Chicago Marathon":MAILTO:office@chicagomarathon.com
END:VEVENT
BEGIN:VEVENT
DTSTART;TZID=UTC:20241012T110000
DTEND;TZID=UTC:20241012T160000
DTSTAMP:20260423T092942
CREATED:20241010T163515Z
LAST-MODIFIED:20241010T163515Z
UID:737-1728730800-1728748800@ward03chicago.com
SUMMARY:Market Day on MLK
DESCRIPTION:
URL:https://ward03chicago.com/event/market-day-on-mlk/
LOCATION:4455 S. King Drive\, 4455 S. King Drive.\, Chicago\, IL\, 60653\, United States
ATTACH;FMTTYPE=image/jpeg:https://ward03chicago.com/wp-content/uploads/2024/10/Market-Day-on-MLK.jpg
END:VEVENT
BEGIN:VEVENT
DTSTART;TZID=UTC:20241012T100000
DTEND;TZID=UTC:20241012T130000
DTSTAMP:20260423T092942
CREATED:20241010T163828Z
LAST-MODIFIED:20241010T163828Z
UID:742-1728727200-1728738000@ward03chicago.com
SUMMARY:Dancing Our Way to Victory
DESCRIPTION:
URL:https://ward03chicago.com/event/dancing-our-way-to-victory/
LOCATION:Timothy Center\, 4351 S. Drexel Blvd.\, Chicago\, IL\, 60653\, United States
ATTACH;FMTTYPE=image/jpeg:https://ward03chicago.com/wp-content/uploads/2024/10/DVBCA-Invitation-Flyer-10-12-24-A.jpg
ORGANIZER;CN="Timothy Community Corporation":MAILTO:info@timothycommunity.org
END:VEVENT
BEGIN:VEVENT
DTSTART;VALUE=DATE:20240819
DTEND;VALUE=DATE:20240823
DTSTAMP:20260423T092942
CREATED:20240508T170452Z
LAST-MODIFIED:20240508T170452Z
UID:526-1724025600-1724371199@ward03chicago.com
SUMMARY:Democratic National Convention
DESCRIPTION:
URL:https://ward03chicago.com/event/democratic-national-convention/
LOCATION:IL
ATTACH;FMTTYPE=image/png:https://ward03chicago.com/wp-content/uploads/2024/05/DNC-Flyer-1.png
END:VEVENT
BEGIN:VEVENT
DTSTART;TZID=America/Chicago:20240720T100000
DTEND;TZID=America/Chicago:20240720T130000
DTSTAMP:20260423T092942
CREATED:20240514T181903Z
LAST-MODIFIED:20240514T181903Z
UID:580-1721469600-1721480400@ward03chicago.com
SUMMARY:3rd Ward Mobile City Hall
DESCRIPTION:
URL:https://ward03chicago.com/event/3rd-ward-mobile-city-hall/
LOCATION:Robert Taylor Park\, 39 W. 47th St.\, Chicago\, IL\, 60609\, United States
ATTACH;FMTTYPE=image/jpeg:https://ward03chicago.com/wp-content/uploads/2024/05/MCH_Flyer_2024v7-page-001.jpg
ORGANIZER;CN="Office of Alderman Pat Dowell":MAILTO:Ward03@cityofchicago.org
END:VEVENT
BEGIN:VEVENT
DTSTART;VALUE=DATE:20240706
DTEND;VALUE=DATE:20240708
DTSTAMP:20260423T092942
CREATED:20240508T165852Z
LAST-MODIFIED:20240508T165852Z
UID:519-1720224000-1720396799@ward03chicago.com
SUMMARY:NASCAR Chicago Street Race Weekend
DESCRIPTION:NASCAR Chicago Street Race Weekend is July 6th and 7th.
URL:https://ward03chicago.com/event/nascar-chicago-street-race-weekend/
LOCATION:IL
ATTACH;FMTTYPE=image/png:https://ward03chicago.com/wp-content/uploads/2024/05/Chicago-Street-Race-2024.png
ORGANIZER;CN="NASCAR Chicago":MAILTO:info@nascarchicago.com
END:VEVENT
BEGIN:VEVENT
DTSTART;TZID=America/Chicago:20240629T110000
DTEND;TZID=America/Chicago:20240629T150000
DTSTAMP:20260423T092942
CREATED:20240612T194610Z
LAST-MODIFIED:20240612T194610Z
UID:684-1719658800-1719673200@ward03chicago.com
SUMMARY:Fuller Park Summer Fun
DESCRIPTION:Adults and parents\, let’s all come out and show our youth what fun looks like at the Fuller Park Summer Fun fest!
URL:https://ward03chicago.com/event/fuller-park-summer-fun/
LOCATION:Fuller Park\, 331 W. 45th Pl.\, Chicago\, IL\, 60609\, United States
END:VEVENT
BEGIN:VEVENT
DTSTART;TZID=America/Chicago:20240607T100000
DTEND;TZID=America/Chicago:20240607T140000
DTSTAMP:20260423T092942
CREATED:20240523T154059Z
LAST-MODIFIED:20240523T154059Z
UID:611-1717754400-1717768800@ward03chicago.com
SUMMARY:Community Resource Forum and Mobile DMV
DESCRIPTION:
URL:https://ward03chicago.com/event/community-resource-forum-and-mobile-dmv/
LOCATION:Chicago Urban League\, 4510 S. Michigan Ave.\, Chicago\, IL\, 60653\, United States
ATTACH;FMTTYPE=image/jpeg:https://ward03chicago.com/wp-content/uploads/2024/05/Community-Resource-Forum-and-Mobile-DMV.jpg
ORGANIZER;CN="State Representative Kim DuBuclet":MAILTO:rep5information@gmail.com
END:VEVENT
BEGIN:VEVENT
DTSTART;TZID=America/Chicago:20240529T143000
DTEND;TZID=America/Chicago:20240529T183000
DTSTAMP:20260423T092942
CREATED:20240514T183017Z
LAST-MODIFIED:20240514T183017Z
UID:594-1716993000-1717007400@ward03chicago.com
SUMMARY:3rd/4th/5th Ward Blood Drive
DESCRIPTION:
URL:https://ward03chicago.com/event/3rd-4th-5th-ward-blood-drive/
LOCATION:1st Police District Station\, 1718 S. State St.\, Chicago\, IL\, 60616\, United States
ATTACH;FMTTYPE=image/png:https://ward03chicago.com/wp-content/uploads/2024/05/BloodDriveMay29-2024.png
END:VEVENT
BEGIN:VEVENT
DTSTART;TZID=America/Chicago:20240529T110000
DTEND;TZID=America/Chicago:20240529T150000
DTSTAMP:20260423T092942
CREATED:20240508T170253Z
LAST-MODIFIED:20240508T170253Z
UID:522-1716980400-1716994800@ward03chicago.com
SUMMARY:Career and Resource Fair
DESCRIPTION:Acclivus Career and Resource Fair on Wednesday\, May 29th from 11:00 am to 3:00 pm at the Discover Shine Bright Community Center (8650 S. Cottage Grove Ave.)
URL:https://ward03chicago.com/event/career-and-resource-fair/
LOCATION:Discover Shine Bright Communit Center\, 8650 S. Cottage Grove Ave.\, Chicago\, IL\, 60619\, United States
ATTACH;FMTTYPE=image/png:https://ward03chicago.com/wp-content/uploads/2024/05/Acclivus-Career-and-Resource-Fair-5.29.png
END:VEVENT
BEGIN:VEVENT
DTSTART;TZID=America/Chicago:20240519T140000
DTEND;TZID=America/Chicago:20240519T170000
DTSTAMP:20260423T092942
CREATED:20240514T182714Z
LAST-MODIFIED:20240514T182714Z
UID:590-1716127200-1716138000@ward03chicago.com
SUMMARY:Major Taylor Documentary
DESCRIPTION:
URL:https://ward03chicago.com/event/major-taylor-documentary/
LOCATION:Illinois Tech Schulz Auditorium\, 10 W. 35th St.\, Chicago\, IL\, 60616\, United States
ATTACH;FMTTYPE=image/jpeg:https://ward03chicago.com/wp-content/uploads/2024/05/Major-Taylor-Documentary.jpg
END:VEVENT
BEGIN:VEVENT
DTSTART;TZID=America/Chicago:20240518T100000
DTEND;TZID=America/Chicago:20240518T140000
DTSTAMP:20260423T092942
CREATED:20240514T182254Z
LAST-MODIFIED:20240514T182254Z
UID:585-1716026400-1716040800@ward03chicago.com
SUMMARY:Summer 50 Fest
DESCRIPTION:
URL:https://ward03chicago.com/event/summer-50-fest/
LOCATION:United Center\, 1901 W. Madison Ave.\, Chicago\, IL\, 60612\, United States
ATTACH;FMTTYPE=image/jpeg:https://ward03chicago.com/wp-content/uploads/2024/05/Summer50-Flyer-5_8-Ward3-scaled.jpg
END:VEVENT
BEGIN:VEVENT
DTSTART;TZID=America/Chicago:20240508T100000
DTEND;TZID=America/Chicago:20240508T150000
DTSTAMP:20260423T092942
CREATED:20240408T170600Z
LAST-MODIFIED:20240508T170931Z
UID:528-1715162400-1715180400@ward03chicago.com
SUMMARY:3rd Ward Resource Fair
DESCRIPTION:3rd Ward Resource Fair on Wednesday\, May 8th from 10:00 am to 3:00 pm at the 3rd Ward Public Service Office
URL:https://ward03chicago.com/event/3rd-ward-resource-fair/
LOCATION:3rd Ward Public Service Office\, 5046 S. State St.\, Chicago\, IL\, 60609\, United States
ATTACH;FMTTYPE=image/jpeg:https://ward03chicago.com/wp-content/uploads/2024/05/3rd-Ward-Resource-Fair-Flier-030624-1-scaled.jpg
ORGANIZER;CN="Office of Alderman Pat Dowell":MAILTO:Ward03@cityofchicago.org
END:VEVENT
BEGIN:VEVENT
DTSTART;TZID=America/Chicago:20240427T100000
DTEND;TZID=America/Chicago:20240427T130000
DTSTAMP:20260423T092942
CREATED:20240427T162542Z
LAST-MODIFIED:20240508T164320Z
UID:493-1714212000-1714222800@ward03chicago.com
SUMMARY:St. James Health Fair
DESCRIPTION:Health Fair\, April 27th from 10:00 am to 1:00 pm at St. James Parish (2907 S. Wabash Ave.)
URL:https://ward03chicago.com/event/st-james-health-fair/
LOCATION:St. James Parish\, 2907 S. Wabash Ave.\, Chicago\, IL\, 60616\, United States
ATTACH;FMTTYPE=image/png:https://ward03chicago.com/wp-content/uploads/2024/05/Health-Fair.png
END:VEVENT
BEGIN:VEVENT
DTSTART;TZID=America/Chicago:20240425T100000
DTEND;TZID=America/Chicago:20240425T140000
DTSTAMP:20260423T092942
CREATED:20240425T164416Z
LAST-MODIFIED:20240508T164818Z
UID:515-1714039200-1714053600@ward03chicago.com
SUMMARY:Citywide Career Fair
DESCRIPTION:Citywide Career Fair on Thursday\, April 25th from 10:00 am to 2:00 pm at Malcolm X College
URL:https://ward03chicago.com/event/citywide-career-fair/
LOCATION:Malcolm X College\, 1900 W Jackson Blvd.\, Chicago\, IL\, 60612\, United States
ATTACH;FMTTYPE=image/png:https://ward03chicago.com/wp-content/uploads/2024/05/Citywide-Career-Fair-April-2024.png
END:VEVENT
BEGIN:VEVENT
DTSTART;TZID=America/Chicago:20240420T100000
DTEND;TZID=America/Chicago:20240420T120000
DTSTAMP:20260423T092942
CREATED:20240420T162943Z
LAST-MODIFIED:20240508T164307Z
UID:497-1713607200-1713614400@ward03chicago.com
SUMMARY:Powering the Future Housing Expo and Workshop
DESCRIPTION:Powering the Future Housing Expo and Workshop on Saturday\, April 20th from 10:00 am to noon at the South Shore International College Prep High School (1955 E. 75th St.)
URL:https://ward03chicago.com/event/powering-the-future-housing-expo-and-workshop/
LOCATION:South Shore International College Prep High School\, 1955 E. 75th St.\, Chicago\, IL\, 60649\, United States
ATTACH;FMTTYPE=image/png:https://ward03chicago.com/wp-content/uploads/2024/05/Energy-Efficiency-Expo.png
END:VEVENT
END:VCALENDAR