BEGIN:VCALENDAR
VERSION:2.0
PRODID:-//Ward 03 Chicago - ECPv6.15.20//NONSGML v1.0//EN
CALSCALE:GREGORIAN
METHOD:PUBLISH
X-WR-CALNAME:Ward 03 Chicago
X-ORIGINAL-URL:https://ward03chicago.com
X-WR-CALDESC:Events for Ward 03 Chicago
REFRESH-INTERVAL;VALUE=DURATION:PT1H
X-Robots-Tag:noindex
X-PUBLISHED-TTL:PT1H
BEGIN:VTIMEZONE
TZID:UTC
BEGIN:STANDARD
TZOFFSETFROM:+0000
TZOFFSETTO:+0000
TZNAME:UTC
DTSTART:20230101T000000
END:STANDARD
END:VTIMEZONE
BEGIN:VEVENT
DTSTART;TZID=UTC:20240130T070000
DTEND;TZID=UTC:20240130T090000
DTSTAMP:20260423T134622
CREATED:20240130T155648Z
LAST-MODIFIED:20240508T164106Z
UID:472-1706598000-1706605200@ward03chicago.com
SUMMARY:AMPR Together Tuesdays with Alderman Dowell
DESCRIPTION:AMPR Together Tuesdays is hosting Alderman Pat Dowell at Sip and Savor (78 E. 47th St.) on January 30th from 7:00 am to 9:00 am
URL:https://ward03chicago.com/event/ampr-together-tuesdays-with-alderman-dowell/
LOCATION:Sip and Savor\, 78 E. 47th St.\, Chicago\, IL\, 60653\, United States
ATTACH;FMTTYPE=image/png:https://ward03chicago.com/wp-content/uploads/2024/05/AMPR-Dowell.png
END:VEVENT
END:VCALENDAR