BEGIN:VCALENDAR
VERSION:2.0
PRODID:-//Ward 03 Chicago - ECPv6.15.20//NONSGML v1.0//EN
CALSCALE:GREGORIAN
METHOD:PUBLISH
X-WR-CALNAME:Ward 03 Chicago
X-ORIGINAL-URL:https://ward03chicago.com
X-WR-CALDESC:Events for Ward 03 Chicago
REFRESH-INTERVAL;VALUE=DURATION:PT1H
X-Robots-Tag:noindex
X-PUBLISHED-TTL:PT1H
BEGIN:VTIMEZONE
TZID:UTC
BEGIN:STANDARD
TZOFFSETFROM:+0000
TZOFFSETTO:+0000
TZNAME:UTC
DTSTART:20240101T000000
END:STANDARD
END:VTIMEZONE
BEGIN:VEVENT
DTSTART;TZID=UTC:20250726T090000
DTEND;TZID=UTC:20250726T140000
DTSTAMP:20260423T060107
CREATED:20250708T142313Z
LAST-MODIFIED:20250708T142313Z
UID:985-1753520400-1753538400@ward03chicago.com
SUMMARY:7th Annual Chicago Race Riot of 1919 Historic Tour
DESCRIPTION:Join us on Saturday\, July 26 for the 7th Annual Chicago Race Riot of 1919 Historic Tour starting at 35th and State. \nJoin approximately 300 participants for an educational tour through Bronzeville\, Bridgeport\, and surrounding neighborhoods to hear stories from historians\, Healing 1919 Justice Ambassadors\, and community leaders. The tour highlights key race riot of 1919 areas as well as locations showcasing the resilience of the Black community\, including the Chicago Defender\, Chicago Bee\, Ida B. Wells\, and Victory Monument. \nOrganic Oneness is the proud fiscal sponsor and program partner for the Chicago Race Riot of 1919 Commemoration Project (CRR19) directed by Dr. Peter Cole and Dr. Franklin Cosey-Gay.
URL:https://ward03chicago.com/event/7th-annual-chicago-race-riot-of-1919-historic-tour/
LOCATION:35th St. and State St.\, 3500 S. State St.\, Chicago\, IL\, 60609\, United States
ATTACH;FMTTYPE=image/jpeg:https://ward03chicago.com/wp-content/uploads/2025/07/IMG_D802606CE473-1.jpeg
ORGANIZER;CN="Chicago Race Riot of 1919 Commemoration Project":MAILTO:chicagoraceriot1919@gmail.com
END:VEVENT
END:VCALENDAR