BEGIN:VCALENDAR
VERSION:2.0
PRODID:-//Ward 03 Chicago - ECPv6.15.20//NONSGML v1.0//EN
CALSCALE:GREGORIAN
METHOD:PUBLISH
X-ORIGINAL-URL:https://ward03chicago.com
X-WR-CALDESC:Events for Ward 03 Chicago
REFRESH-INTERVAL;VALUE=DURATION:PT1H
X-Robots-Tag:noindex
X-PUBLISHED-TTL:PT1H
BEGIN:VTIMEZONE
TZID:UTC
BEGIN:STANDARD
TZOFFSETFROM:+0000
TZOFFSETTO:+0000
TZNAME:UTC
DTSTART:20240101T000000
END:STANDARD
END:VTIMEZONE
BEGIN:VEVENT
DTSTART;TZID=UTC:20250802T100000
DTEND;TZID=UTC:20250802T130000
DTSTAMP:20260423T042724
CREATED:20250708T141002Z
LAST-MODIFIED:20250708T141002Z
UID:974-1754128800-1754139600@ward03chicago.com
SUMMARY:3rd Ward Back to School Fair
DESCRIPTION:Alderman Dowell is hosting her annual Back to School Fair on Saturday\, August 2nd from 10:00 am to 1:00 pm. Free school supplies\, food\, music and games for everyone to enjoy!
URL:https://ward03chicago.com/event/3rd-ward-back-to-school-fair/
LOCATION:3rd Ward Public Service Office\, 5046 S. State St.\, Chicago\, IL\, 60609\, United States
ATTACH;FMTTYPE=image/png:https://ward03chicago.com/wp-content/uploads/2025/07/Back-to-School-Fair-2025.png
ORGANIZER;CN="Office of Alderman Pat Dowell":MAILTO:Ward03@cityofchicago.org
END:VEVENT
BEGIN:VEVENT
DTSTART;TZID=UTC:20250809T110000
DTEND;TZID=UTC:20250809T170000
DTSTAMP:20260423T042724
CREATED:20250708T143017Z
LAST-MODIFIED:20250708T143017Z
UID:990-1754737200-1754758800@ward03chicago.com
SUMMARY:Taste of Bronzeville 2025
DESCRIPTION:
URL:https://ward03chicago.com/event/taste-of-bronzeville-2025/
LOCATION:XS Tennis\, 5336 S. State St.\, Chicago\, IL\, 60609\, United States
ATTACH;FMTTYPE=image/jpeg:https://ward03chicago.com/wp-content/uploads/2025/07/Taste-of-Bronzeville-2025.jpeg
END:VEVENT
BEGIN:VEVENT
DTSTART;TZID=UTC:20250816T100000
DTEND;TZID=UTC:20250816T220000
DTSTAMP:20260423T042724
CREATED:20250815T174620Z
LAST-MODIFIED:20250815T174620Z
UID:1011-1755338400-1755381600@ward03chicago.com
SUMMARY:Bronzeville Jazz Music Festival
DESCRIPTION:
URL:https://ward03chicago.com/event/bronzeville-jazz-music-festival/
LOCATION:5100 S. King Drive.\, 5100 S. King Drive.\, Chicago\, IL\, 60609\, United States
ATTACH;FMTTYPE=image/png:https://ward03chicago.com/wp-content/uploads/2025/08/Bronzeville-Jazz-Music-Festival-2025.1.png
END:VEVENT
BEGIN:VEVENT
DTSTART;TZID=UTC:20250820T180000
DTEND;TZID=UTC:20250820T200000
DTSTAMP:20260423T042724
CREATED:20250815T174227Z
LAST-MODIFIED:20250815T174227Z
UID:1006-1755712800-1755720000@ward03chicago.com
SUMMARY:Driving Change: Town Hall Is Going Virtual
DESCRIPTION:Auto Insurance Fairness & Transparency \nSouth Side Town Hall: Wednesday\, August 20th at 6 p.m. \nIllinois Secretary of State Alexi Giannoulias recently launched Driving Change\, a statewide advocacy campaign to hold insurance companies accountable for skyrocketing rate increases. \nWe understand that you are juggling a lot right now. That’s why we’ve decided to make it easier on Illinoisans to attend the August 20th town hall virtually\, so that everyone can add their voice\, from the comfort of their own home\, about the importance fair and affordable auto rates. Right now\, auto insurance rates are not being based on your driving record but instead on your zip code\, age and credit score. \nWe want to hear from you. Join us for this virtual town hall on August 20th. Over the next several weeks\, we will continue to host virtual town halls in different regions of the state to gather feedback from Illinoisans and offer residents the opportunity to share their story. \nWe need your help to spread the word! Please share this town hall with your neighbors\, family and friends. RSVP for the zoom here.
URL:https://ward03chicago.com/event/driving-change-town-hall-is-going-virtual/
ATTACH;FMTTYPE=image/png:https://ward03chicago.com/wp-content/uploads/2025/08/Town-Hall-Flyer-Aug-20.png
END:VEVENT
BEGIN:VEVENT
DTSTART;TZID=UTC:20250821T090000
DTEND;TZID=UTC:20250821T140000
DTSTAMP:20260423T042724
CREATED:20250708T141820Z
LAST-MODIFIED:20250708T141820Z
UID:979-1755766800-1755784800@ward03chicago.com
SUMMARY:City of Chicago Senior Fest
DESCRIPTION:Chicago residents aged 60 and better-this day is for you! Join this fun filled celebration of Chicago’s vibrant senior community! Enjoy a picnic-style lunch\, senior resource fair\, dance pavilion\, raffle prizes and more. Contact your local senior center or email seniorfest@cityofchicago.org for more information.
URL:https://ward03chicago.com/event/city-of-chicago-senior-fest/
LOCATION:Millennium Park\, 201 E. Randolph St.\, Chicago\, IL\, 60601\, United States
ATTACH;FMTTYPE=image/png:https://ward03chicago.com/wp-content/uploads/2025/07/Senior-Fest-2025.png
END:VEVENT
BEGIN:VEVENT
DTSTART;TZID=UTC:20250831T060000
DTEND;TZID=UTC:20250831T120000
DTSTAMP:20260423T042724
CREATED:20250815T175648Z
LAST-MODIFIED:20250815T175648Z
UID:1020-1756620000-1756641600@ward03chicago.com
SUMMARY:40th Annual Bike the Drive
DESCRIPTION:
URL:https://ward03chicago.com/event/40th-annual-bike-the-drive/
LOCATION:Lake Shore Drive\, Lake Shore Drive from Bryn Mawr to 57th St.\, Chicago\, IL\, United States
ATTACH;FMTTYPE=image/png:https://ward03chicago.com/wp-content/uploads/2025/08/Community-Outreach-Flyer_2025-1.png
END:VEVENT
END:VCALENDAR